BEGIN:VCALENDAR
VERSION:2.0
PRODID:-//Trawler-Calendar-Tool 0.2
METHOD:PUBLISH
BEGIN:VTIMEZONE
TZID:Europe/Berlin
BEGIN:STANDARD
TZNAME:CET
DTSTART:20100101T010000
RRULE:FREQ=YEARLY;BYDAY=-1SU;BYMONTH=10
TZOFFSETFROM:+0200
TZOFFSETTO:+0100
END:STANDARD
BEGIN:DAYLIGHT
TZNAME:CEST
DTSTART:20100101T010000
RRULE:FREQ=YEARLY;BYDAY=-1SU;BYMONTH=3
TZOFFSETFROM:+0100
TZOFFSETTO:+0200
END:DAYLIGHT
END:VTIMEZONE
X-WR-TIMEZONE:Europe/Berlin
X-ORIGINAL-URL:https://www.spd-oberkochen.de/termine/
BEGIN:VEVENT
DTSTART;TZID=Europe/Berlin:20260426T140000
DTEND;TZID=Europe/Berlin:20260426T170000
LOCATION:Mühlstraße 1\, 73447 Oberkochen
SUMMARY:Stadtcafé im Mühlensaal
DESCRIPTION:
 
  
 
 Am 26. April 2026 von 14 bis 17
   Uhr.
 
 Im Mühlensaal der
   Scheerenmühle erwarten Sie Kaffee\, Tee und eine Riesenauswahl
   leckerer Kuchen und Torten in gemütlicher Atmosphäre.
 
 Wir freuen uns auf Ihren Besuch.
 
 Der Erlös kommt wie immer einer
   sozialen Einrichtung zugute.
X-ALT-DESC;FMTTYPE=text/plain:
 
 &nbsp\;
 
 Am 26. April 2026 von 14 bis 17
   Uhr.
 
 Im M&uuml\;hlensaal der
   Scheerenm&uuml\;hle erwarten Sie Kaffee\, Tee und eine Riesenauswahl
   leckerer Kuchen und Torten in gem&uuml\;tlicher Atmosph&auml\;re.
 
 Wir freuen uns auf Ihren Besuch.
 
 Der Erl&ouml\;s kommt wie immer einer
   sozialen Einrichtung zugute.
PRIORITY:5
UID:wscms192864-oberkochen-0bcd8cd1d351cea3fb74e3bf447da139
URL:https://www.spd-oberkochen.de/calendar192864.ics
END:VEVENT
END:VCALENDAR