BEGIN:VCALENDAR
VERSION:2.0
PRODID:-//Trawler-Calendar-Tool 0.2
METHOD:PUBLISH
BEGIN:VTIMEZONE
TZID:Europe/Berlin
BEGIN:STANDARD
TZNAME:CET
DTSTART:20100101T010000
RRULE:FREQ=YEARLY;BYDAY=-1SU;BYMONTH=10
TZOFFSETFROM:+0200
TZOFFSETTO:+0100
END:STANDARD
BEGIN:DAYLIGHT
TZNAME:CEST
DTSTART:20100101T010000
RRULE:FREQ=YEARLY;BYDAY=-1SU;BYMONTH=3
TZOFFSETFROM:+0100
TZOFFSETTO:+0200
END:DAYLIGHT
END:VTIMEZONE
X-WR-TIMEZONE:Europe/Berlin
X-ORIGINAL-URL:https://www.spd-oberkochen.de/termine/
BEGIN:VEVENT
DTSTART;TZID=Europe/Berlin:20260526T183000
LOCATION:Dreißentalstr. 110\, 73447 Oberkochen
SUMMARY:VORSTANDSSITZUNG SPD-OV OBERKOCHEN
DESCRIPTION:
 
 Liebe
   Vorstandsmitglieder\,
 
 hiermit lade ich euch herzlich zu unserer
   Vorstandssitzung
 
 am Dienstag\, den 26. Mai 2026 um 18:30
   Uhr
 
 im Schützenhaus
   ein.
 
 Ich freue mich auf euer Kommen.
 
 Mit
   solidarischen Grüßen
 
 Julius Siebert
 Ortsvereinsvorsitzender
X-ALT-DESC;FMTTYPE=text/plain:
 
 Liebe
   Vorstandsmitglieder\,
 
 hiermit lade ich euch herzlich zu unserer
   Vorstandssitzung
 
 am Dienstag\, den 26. Mai 2026 um 18:30
   Uhr
 
 im Sch&uuml\;tzenhaus
   ein.
 
 Ich freue mich auf euer Kommen.
 
 Mit
   solidarischen Gr&uuml\;&szlig\;en
 
 Julius Siebert
 Ortsvereinsvorsitzender
PRIORITY:5
UID:wscms192878-oberkochen-0bcd8cd1d351cea3fb74e3bf447da139
URL:https://www.spd-oberkochen.de/calendar192878.ics
END:VEVENT
END:VCALENDAR